BEGIN:VCALENDAR
VERSION:2.0
PRODID:icalendar-ruby
CALSCALE:GREGORIAN
METHOD:PUBLISH
BEGIN:VEVENT
DTSTAMP:20260420T035212Z
UID:11-435724@connectcbc.org
DTSTART:20261028T203000Z
DTEND:20261028T223000Z
CLASS:PUBLIC
CREATED:20260419T202920
DESCRIPTION:
LAST-MODIFIED:20260419T202920
LOCATION:Calvary Baptist Church Gym
SUMMARY:Homeschool Open Gym
URL;VALUE=URI:https://www.connectcbc.org/events/homeschool-open-gym/2026-10
 -28
ATTACH;FILENAME=Open-Gym-Flyer-2025.png;FMTTYPE=image/png:https://dq5pwpg1q
 8ru0.cloudfront.net/2025/10/03/19/37/58/d06e1a7a-6f22-47cc-8f60-213b678aa1
 52/Open-Gym-Flyer-2025.png
END:VEVENT
END:VCALENDAR
